BEGIN:VCALENDAR
VERSION:2.0
PRODID:-//ChamberMaster//Event Calendar 2.0//EN
METHOD:PUBLISH
X-PUBLISHED-TTL:P3D
REFRESH-INTERVAL:P3D
CALSCALE:GREGORIAN
BEGIN:VEVENT
DTSTART;VALUE=DATE:20170330
DTEND;VALUE=DATE:20170331
TRANSP:TRANSPARENT
X-MICROSOFT-CDO-ALLDAYEVENT:TRUE
SUMMARY:Ribbon Cutting
DESCRIPTION:Come show your support for Ooh La La Boutique with your local Chamber and its Ambassadors!
X-ALT-DESC;FMTTYPE=text/html:Come show your support for Ooh La La Boutique with your local Chamber and its Ambassadors!
LOCATION:124 N. Third Street
UID:e.2912.356
SEQUENCE:3
DTSTAMP:20260424T184645Z
URL:https://members.bardstownchamber.com/events/details/ribbon-cutting-356
END:VEVENT

END:VCALENDAR
