BEGIN:VCALENDAR
VERSION:2.0
PRODID:-//ChamberMaster//Event Calendar 2.0//EN
METHOD:PUBLISH
X-PUBLISHED-TTL:P3D
REFRESH-INTERVAL:P3D
CALSCALE:GREGORIAN
BEGIN:VEVENT
DTSTART:20170406T160000Z
DTEND:20170406T170000Z
X-MICROSOFT-CDO-ALLDAYEVENT:FALSE
SUMMARY:Ribbon Cutting
DESCRIPTION:Come support your local business!\n\nThe Chamber and its Ambassadors are having a ribbon cutting for O'Bryan's Farm Equipment. Be sure to stop by and show your support.
X-ALT-DESC;FMTTYPE=text/html:Come support your local business!<br />\nThe Chamber and its Ambassadors are having a ribbon cutting for O&#39\;Bryan&#39\;s Farm Equipment. Be sure to stop by and show your support.&nbsp\;
LOCATION:1545 New Haven Rd.
UID:e.2912.354
SEQUENCE:3
DTSTAMP:20260424T172048Z
URL:https://members.bardstownchamber.com/events/details/ribbon-cutting-354
END:VEVENT

END:VCALENDAR
