BEGIN:VCALENDAR
VERSION:2.0
PRODID:-//ChamberMaster//Event Calendar 2.0//EN
METHOD:PUBLISH
X-PUBLISHED-TTL:P3D
REFRESH-INTERVAL:P3D
CALSCALE:GREGORIAN
BEGIN:VEVENT
DTSTART:20200108T210000Z
DTEND:20200108T220000Z
X-MICROSOFT-CDO-ALLDAYEVENT:FALSE
SUMMARY:Ribbon Cutting
DESCRIPTION:The Bardstown-Nelson Chamber is hosting a Ribbon Cutting for Our Common Wealth at 4:00 PM On Wednesday January 8\, 2020 at Just Baked.  Our Commonwealth was founded to cultivate youth leadership in equal justice and reconciliation\, engage citizens in addressing contemporary societal challenges\, and advocate for common-sense\, pragmatic reforms. Please join us to welcome them to the Bardstown Chamber.
X-ALT-DESC;FMTTYPE=text/html:<span style="color: rgb(28\, 30\, 33)\; font-family: Helvetica\, Arial\, sans-serif\; font-size: 14px\; background-color: rgb(255\, 255\, 255)\;">The Bardstown-Nelson Chamber is hosting a Ribbon Cutting for Our Common Wealth</span><span style="color: rgb(28\, 30\, 33)\; font-family: Helvetica\, Arial\, sans-serif\; font-size: 14px\; background-color: rgb(255\, 255\, 255)\;">&nbsp\;at 4:00 PM On Wednesday January 8\, 2020 at Just Baked.&nbsp\;</span><span style="color: rgb(28\, 30\, 33)\; font-family: Helvetica\, Arial\, sans-serif\; font-size: 14px\; background-color: rgb(255\, 255\, 255)\;">&nbsp\;Our Commonwealth was founded to cultivate youth leadership in equal justice and reconciliation\, engage citizens in addressing contemporary societal challenges\, and advocate for common-sense\, pragmatic reforms. Please join us to welcome them to the Bardstown Chamber.</span>
LOCATION:Just baked
UID:e.2912.2826
SEQUENCE:3
DTSTAMP:20260419T194812Z
URL:https://members.bardstownchamber.com/events/details/ribbon-cutting-2826
END:VEVENT

END:VCALENDAR
