BEGIN:VCALENDAR
VERSION:2.0
PRODID:-//ChamberMaster//Event Calendar 2.0//EN
METHOD:PUBLISH
X-PUBLISHED-TTL:P3D
REFRESH-INTERVAL:P3D
CALSCALE:GREGORIAN
BEGIN:VEVENT
DTSTART:20180818T220000Z
DTEND:20180819T010000Z
X-MICROSOFT-CDO-ALLDAYEVENT:FALSE
SUMMARY:Relay for Life Wine Down
DESCRIPTION:Join us for a great cause\, live music with Buckshot Playboys\, silent auction\, delicious wine\, and more!
X-ALT-DESC;FMTTYPE=text/html:<span style="color: rgb(29\, 33\, 41)\; font-family: Helvetica\, Arial\, sans-serif\; font-size: 14px\; background-color: rgb(255\, 255\, 255)\;">Join us for a great cause\, live music with Buckshot Playboys\, silent auction\, delicious wine\, and more!</span>
LOCATION:pin Forest Edge Winery 1910 Clermont Rd\, Shepherdsville\, Kentucky 40165
UID:e.2912.1573
SEQUENCE:3
DTSTAMP:20260419T211635Z
URL:https://members.bardstownchamber.com/events/details/relay-for-life-wine-down-1573
END:VEVENT

END:VCALENDAR
