BEGIN:VCALENDAR
VERSION:2.0
PRODID:-//ChamberMaster//Event Calendar 2.0//EN
METHOD:PUBLISH
X-PUBLISHED-TTL:P3D
REFRESH-INTERVAL:P3D
CALSCALE:GREGORIAN
BEGIN:VEVENT
DTSTART:20180215T170000Z
DTEND:20180215T180000Z
X-MICROSOFT-CDO-ALLDAYEVENT:FALSE
SUMMARY:Red Heart for Women 2018
DESCRIPTION:Red Heart for Women\n\n\n\nIn partnership with The Kentucky Standard\, PLG TV 13\, Flaget Memorial Hospital and American Heart Association\n\n\n\nDon't miss National Speaker Rachel Richey give her emotional and very personal story!   \n\n\n\nLots of educational materials will be provided!\n\nShow your support by wearing red.
X-ALT-DESC;FMTTYPE=text/html:<span style="font-size:14px\;"><span style="font-family:arial\;"><span style="color: rgb(51\, 51\, 51)\; background-color: rgb(255\, 255\, 255)\;"><strong><span style="font-size:18px\;">Red Heart for Women</span></strong><br />\n<br />\nIn partnership with The Kentucky Standard\, PLG TV 13\, Flaget Memorial Hospital and American Heart Association</span><br />\n<br />\nDon&#39\;t miss National Speaker Rachel Richey give her emotional and very personal story!&nbsp\; &nbsp\;<br />\n<br />\nLots of educational materials will be provided!<br />\nShow your support by wearing red.</span></span><br />\n&nbsp\;
LOCATION:Bardstown Country Club at Maywood 130 Maywood Avenue Bardstown\, KY 40004
UID:e.2912.1415
SEQUENCE:3
DTSTAMP:20260420T070359Z
URL:https://members.bardstownchamber.com/events/details/red-heart-for-women-2018-1415
END:VEVENT

END:VCALENDAR
