BEGIN:VCALENDAR
VERSION:2.0
PRODID:-//ChamberMaster//Event Calendar 2.0//EN
METHOD:PUBLISH
X-PUBLISHED-TTL:P3D
REFRESH-INTERVAL:P3D
CALSCALE:GREGORIAN
BEGIN:VEVENT
DTSTART:20201006T140000Z
DTEND:20201006T153000Z
X-MICROSOFT-CDO-ALLDAYEVENT:FALSE
SUMMARY:Recovery Program - Recovery Program - Part 2: R U OK?
DESCRIPTION:The Bardstown- Nelson County Chamber and Bullitt County Chamber invite you to be apart of the 3-part training series with Kentucky Chamber Business Liaisons Sonia Osman and Ashley McCarty. These informative sessions are to provide support to employers creating a recovery-friendly culture and reduce stigma surrounding substance use disorder and mental health. You can participate in one or all of the sessions! \n\n\n\n SERIES PART 2: \n\nThis session explores mental health for employers. The training will assist in how to name\, normalize\, and navigate mental health in the workplace.
X-ALT-DESC;FMTTYPE=text/html:<span style="font-size:14px\;"><span style="font-family:arial\;"><span style="color: rgb(36\, 36\, 36)\; background-color: rgb(255\, 255\, 255)\;">The Bardstown- Nelson County Chamber and Bullitt County Chamber invite you to be apart of the 3-part training series with Kentucky Chamber Business Liaisons Sonia Osman and Ashley McCarty. These informative sessions are to provide support to employers creating a recovery-friendly culture and reduce stigma surrounding substance use disorder and mental health. You can participate in one or all of the sessions!&nbsp\;</span><br style="box-sizing: border-box\; color: rgb(36\, 36\, 36)\; font-family: Roboto\, sans-serif\; font-size: 20px\; background-color: rgb(255\, 255\, 255)\;" />\n<br style="box-sizing: border-box\; color: rgb(36\, 36\, 36)\; font-family: Roboto\, sans-serif\; font-size: 20px\; background-color: rgb(255\, 255\, 255)\;" />\n<span style="color: rgb(36\, 36\, 36)\; background-color: rgb(255\, 255\, 255)\;">&nbsp\;SERIES PART 2:&nbsp\;</span><br style="box-sizing: border-box\; color: rgb(36\, 36\, 36)\; font-family: Roboto\, sans-serif\; font-size: 20px\; background-color: rgb(255\, 255\, 255)\;" />\n<span style="color: rgb(36\, 36\, 36)\; background-color: rgb(255\, 255\, 255)\;">This session explores mental health for employers. The training will assist in how to name\, normalize\, and navigate mental health in the workplace.&nbsp\;</span></span></span>
LOCATION:Zoom Meeting Zoom Code will be in registration confirmation email
UID:e.2912.2884
SEQUENCE:3
DTSTAMP:20260422T082457Z
URL:https://members.bardstownchamber.com/events/details/recovery-program-recovery-program-part-2-r-u-ok-2884
END:VEVENT

END:VCALENDAR
