BEGIN:VCALENDAR
VERSION:2.0
PRODID:-//ChamberMaster//Event Calendar 2.0//EN
METHOD:PUBLISH
X-PUBLISHED-TTL:P3D
REFRESH-INTERVAL:P3D
CALSCALE:GREGORIAN
BEGIN:VEVENT
DTSTART:20201103T150000Z
DTEND:20201103T163000Z
X-MICROSOFT-CDO-ALLDAYEVENT:FALSE
SUMMARY:Recovery Program - Part 3: TO DISCLOSE OR NOT TO DISCLOSE
DESCRIPTION:The Bardstown- Nelson County Chamber and Bullitt County Chamber invite you to be apart of the 3-part training series with Kentucky Chamber Business Liaisons Sonia Osman and Ashley McCarty. These informative sessions are to provide support to employers creating a recovery-friendly culture and reduce stigma surrounding substance use disorder and mental health. You can participate in one or all of the sessions! \n\n\n\nSeries Part 3:\n\nThis session will give a baseline knowledge of tools your company can use during difficult conversations and actions you can take to reduce stigma surrounding substance use disorder and mental health. .
X-ALT-DESC;FMTTYPE=text/html:<span style="font-size:14px\;"><span style="font-family:arial\;"><span style="color: rgb(36\, 36\, 36)\; background-color: rgb(255\, 255\, 255)\;">The Bardstown- Nelson County Chamber and Bullitt County Chamber invite you to be apart of the 3-part training series with Kentucky Chamber Business Liaisons Sonia Osman and Ashley McCarty. These informative sessions are to provide support to employers creating a recovery-friendly culture and reduce stigma surrounding substance use disorder and mental health. You can participate in one or all of the sessions!&nbsp\;</span><br style="box-sizing: border-box\; color: rgb(36\, 36\, 36)\; font-family: Roboto\, sans-serif\; font-size: 20px\; background-color: rgb(255\, 255\, 255)\;" />\n<br style="box-sizing: border-box\; color: rgb(36\, 36\, 36)\; font-family: Roboto\, sans-serif\; font-size: 20px\; background-color: rgb(255\, 255\, 255)\;" />\n<span style="color: rgb(36\, 36\, 36)\; background-color: rgb(255\, 255\, 255)\;">Series Part 3:</span><br style="box-sizing: border-box\; color: rgb(36\, 36\, 36)\; font-family: Roboto\, sans-serif\; font-size: 20px\; background-color: rgb(255\, 255\, 255)\;" />\n<span style="color: rgb(36\, 36\, 36)\; background-color: rgb(255\, 255\, 255)\;">This session will give a baseline knowledge of tools your company can use during difficult conversations and actions you can take to reduce stigma surrounding substance use disorder and mental health.&nbsp\;</span></span></span><span style="font-size:14px\;"><span style="font-family:arial\;"><span style="color: rgb(36\, 36\, 36)\; background-color: rgb(255\, 255\, 255)\;">.&nbsp\;</span></span></span>
LOCATION:Zoom Meeting Zoom Code will be in registration confirmation email
UID:e.2912.2885
SEQUENCE:3
DTSTAMP:20260424T082611Z
URL:https://members.bardstownchamber.com/events/details/recovery-program-part-3-to-disclose-or-not-to-disclose-2885
END:VEVENT

END:VCALENDAR
