BEGIN:VCALENDAR
VERSION:2.0
PRODID:-//ChamberMaster//Event Calendar 2.0//EN
METHOD:PUBLISH
X-PUBLISHED-TTL:P3D
REFRESH-INTERVAL:P3D
CALSCALE:GREGORIAN
BEGIN:VEVENT
DTSTART:20200908T140000Z
DTEND:20200908T153000Z
X-MICROSOFT-CDO-ALLDAYEVENT:FALSE
SUMMARY:Recovery Program - Part 1: BE A CHANGE AGENT: SHIFTING CULTURE MINDSETS
DESCRIPTION:The Bardstown- Nelson County Chamber and Bullitt County Chamber invite you to be apart of the 3-part training series with Kentucky Chamber Business Liaisons Sonia Osman and Ashley McCarty. These informative sessions are to provide support to employers creating a recovery-friendly culture and reduce stigma surrounding substance use disorder and mental health. You can participate in one or all of the sessions! \n\n\n\nSERIES PART 1: \n\nDuring this session you will learn to understand better how Substance Use Disorder (SUD) could be impacting your workforce. You will compare your current policies and practices to today's emerging opportunities in the areas of workplace hiring\, treatment\, recovery\, and prevention. Learn how maintaining a drug-free workplace while supporting a recovery friendly culture is not just possible\; it can net positive results to the bottom line for your organization.
X-ALT-DESC;FMTTYPE=text/html:<span style="font-size:14px\;"><span style="font-family:arial\;"><span style="color: rgb(36\, 36\, 36)\; background-color: rgb(255\, 255\, 255)\;">The Bardstown- Nelson County Chamber and Bullitt County Chamber invite you to be apart of the 3-part training series with Kentucky Chamber Business Liaisons Sonia Osman and Ashley McCarty. These informative sessions are to provide support to employers creating a recovery-friendly culture and reduce stigma surrounding substance use disorder and mental health. You can participate in one or all of the sessions!&nbsp\;</span><br style="box-sizing: border-box\; color: rgb(36\, 36\, 36)\; font-family: Roboto\, sans-serif\; font-size: 20px\; background-color: rgb(255\, 255\, 255)\;" />\n<br style="box-sizing: border-box\; color: rgb(36\, 36\, 36)\; font-family: Roboto\, sans-serif\; font-size: 20px\; background-color: rgb(255\, 255\, 255)\;" />\n<span style="color: rgb(36\, 36\, 36)\; background-color: rgb(255\, 255\, 255)\;">SERIES PART 1:&nbsp\;</span><br style="box-sizing: border-box\; color: rgb(36\, 36\, 36)\; font-family: Roboto\, sans-serif\; font-size: 20px\; background-color: rgb(255\, 255\, 255)\;" />\n<span style="color: rgb(36\, 36\, 36)\; background-color: rgb(255\, 255\, 255)\;">During this session you will learn to understand better how Substance Use Disorder (SUD) could be impacting your workforce. You will compare your current policies and practices to today&#39\;s emerging opportunities in the areas of workplace hiring\, treatment\, recovery\, and prevention. Learn how maintaining a drug-free workplace while supporting a recovery friendly culture is not just possible\; it can net positive results to the bottom line for your organization.&nbsp\;</span></span></span>
LOCATION:Zoom Meeting Zoom Code will be in registration confirmation email
UID:e.2912.2883
SEQUENCE:3
DTSTAMP:20260420T072846Z
URL:https://members.bardstownchamber.com/events/details/recovery-program-part-1-be-a-change-agent-shifting-culture-mindsets-2883
END:VEVENT

END:VCALENDAR
