BEGIN:VCALENDAR
VERSION:2.0
PRODID:-//ChamberMaster//Event Calendar 2.0//EN
METHOD:PUBLISH
X-PUBLISHED-TTL:P3D
REFRESH-INTERVAL:P3D
CALSCALE:GREGORIAN
BEGIN:VEVENT
DTSTART:20180414T150000Z
DTEND:20180414T190000Z
X-MICROSOFT-CDO-ALLDAYEVENT:FALSE
SUMMARY:Reagan Carter Memorial Walk Color Run
DESCRIPTION:Come join us for the Reagan Carter Memorial 5k Color Run/Walk. We will be celebrating the life of Reagan Carter while bringing awareness to the effects of bullying in our community.\n\nWear a white T-shirt for the walk/run and you will be transformed into a running rainbow as you run through vibrant colors at each of the three color stations you pass. This un-timed\, non-competitive event is for everyone from young to the young of heart- you're going to LOVE it!
X-ALT-DESC;FMTTYPE=text/html:<p style="margin: 0px\; padding: 0px\; color: rgb(102\, 106\, 115)\; font-family: &quot\;Benton Sans&quot\;\, -apple-system\, BlinkMacSystemFont\, Roboto\, &quot\;Helvetica Neue&quot\;\, Helvetica\, Tahoma\, Arial\, sans-serif\; font-size: 15px\; letter-spacing: 0.5px\; background-color: rgb(255\, 255\, 255)\;">Come join us for the Reagan Carter Memorial 5k Color Run/Walk. We will be celebrating the life of Reagan Carter while bringing awareness to the effects of bullying in our community.</p>\n\n<p style="margin: 0px\; padding: 10px 0px 0px\; color: rgb(102\, 106\, 115)\; font-family: &quot\;Benton Sans&quot\;\, -apple-system\, BlinkMacSystemFont\, Roboto\, &quot\;Helvetica Neue&quot\;\, Helvetica\, Tahoma\, Arial\, sans-serif\; font-size: 15px\; letter-spacing: 0.5px\; background-color: rgb(255\, 255\, 255)\;">Wear a white T-shirt for the walk/run and you will be transformed into a running rainbow as you run through vibrant colors at each of the three color stations you pass. This un-timed\, non-competitive event is for everyone from young to the young of heart- you&rsquo\;re going to LOVE it!</p>\n
LOCATION:Dean Watts Park Spencer Mattingly Road Bardstown\, KY 40004
UID:e.2912.1440
SEQUENCE:3
DTSTAMP:20260420T023245Z
URL:https://members.bardstownchamber.com/events/details/reagan-carter-memorial-walk-color-run-1440
END:VEVENT

END:VCALENDAR
