BEGIN:VCALENDAR
VERSION:2.0
PRODID:-//ChamberMaster//Event Calendar 2.0//EN
METHOD:PUBLISH
X-PUBLISHED-TTL:P3D
REFRESH-INTERVAL:P3D
CALSCALE:GREGORIAN
BEGIN:VEVENT
DTSTART:20191022T153000Z
DTEND:20191022T173000Z
X-MICROSOFT-CDO-ALLDAYEVENT:FALSE
SUMMARY:Quickbooks Class- 11:30 am
DESCRIPTION:Join us for this professional development opportunity\n\noffered by Elizabethtown Community and Technical College.\n\n\n\n\n\nUsing QuickBooks to track the finances of a small business\n\nStudents will learn tips to: manage account transactions\, maintain customer/vendor information\,  and generate reports.\n\n \n\nManaging Account Transactions\n\nMaintaining Customer-Vendor Information\n\nBanking and Billing activities\n\nWorking with reports\n\n*The computers on the bus will have QB loaded.
X-ALT-DESC;FMTTYPE=text/html:<span style="font-size:16px\;">Join us for this professional development opportunity<br />\noffered by Elizabethtown Community and Technical College.<br />\n<br />\n<br />\n<strong><u>Using QuickBooks to track the finances of a small business</u></strong><br />\nStudents will learn tips to: manage account transactions\, maintain customer/vendor information\,&nbsp\; and generate reports.<br />\n&nbsp\;<br />\nManaging Account Transactions<br />\nMaintaining Customer-Vendor Information<br />\nBanking and Billing activities<br />\nWorking with reports<br />\n<strong>*The computers on the bus will have QB loaded</strong>.</span><br />\n<br />\n&nbsp\;
LOCATION:Bardstown- Nelson County Chamber of Commerce ECTC Bus Parked at One Court Square Bardstown\, KY 40004
UID:e.2912.1811
SEQUENCE:3
DTSTAMP:20260419T145152Z
URL:https://members.bardstownchamber.com/events/details/quickbooks-class-11-30-am-1811
END:VEVENT

END:VCALENDAR
