BEGIN:VCALENDAR
VERSION:2.0
PRODID:-//ChamberMaster//Event Calendar 2.0//EN
METHOD:PUBLISH
X-PUBLISHED-TTL:P3D
REFRESH-INTERVAL:P3D
CALSCALE:GREGORIAN
BEGIN:VEVENT
DTSTART:20171026T223000Z
DTEND:20171027T000000Z
X-MICROSOFT-CDO-ALLDAYEVENT:FALSE
SUMMARY:Pumpkin Carving Demonstration
DESCRIPTION:Tommy Miles will be here carving a pumpkin in the dining room for everyone to see. This is no ordinary carving.. he creates masterpieces that have won many state wide contest! Kids costumes are welcome! All kids will receive a buff-a-love goody bag. The event is free.
X-ALT-DESC;FMTTYPE=text/html:Tommy Miles will be here carving a pumpkin in the dining room for everyone to see. This is no ordinary carving.. he creates masterpieces that have won many state wide contest! Kids costumes are welcome! All kids will receive a buff-a-love goody bag. The event is free.
LOCATION:Buffalo Wings & Rings 1012 Granite Dr Bardstown
UID:e.2912.1392
SEQUENCE:3
DTSTAMP:20260424T094102Z
URL:https://members.bardstownchamber.com/events/details/pumpkin-carving-demonstration-1392
END:VEVENT

END:VCALENDAR
