BEGIN:VCALENDAR
VERSION:2.0
PRODID:-//ChamberMaster//Event Calendar 2.0//EN
METHOD:PUBLISH
X-PUBLISHED-TTL:P3D
REFRESH-INTERVAL:P3D
CALSCALE:GREGORIAN
BEGIN:VEVENT
DTSTART:20180814T130000Z
DTEND:20180814T160000Z
X-MICROSOFT-CDO-ALLDAYEVENT:FALSE
SUMMARY:Public Presentation on Tax Reform
DESCRIPTION:You are invited to a FREE discussion on how the Federal Tax Cuts and Jobs Act and recent Kentucky income tax and sales tax reforms will impact you.
X-ALT-DESC;FMTTYPE=text/html:You are invited to a FREE discussion on how the Federal Tax Cuts and Jobs Act and recent Kentucky income tax and sales tax reforms will impact you.&nbsp\;
LOCATION:Nelson County Public Library 201 Cathedral Manor Bardstown\, KY 40004
UID:e.2912.1549
SEQUENCE:3
DTSTAMP:20260419T211818Z
URL:https://members.bardstownchamber.com/events/details/public-presentation-on-tax-reform-1549
END:VEVENT

END:VCALENDAR
