BEGIN:VCALENDAR
VERSION:2.0
PRODID:-//ChamberMaster//Event Calendar 2.0//EN
METHOD:PUBLISH
X-PUBLISHED-TTL:P3D
REFRESH-INTERVAL:P3D
CALSCALE:GREGORIAN
BEGIN:VEVENT
DTSTART:20180720T123000Z
DTEND:20180720T220000Z
X-MICROSOFT-CDO-ALLDAYEVENT:FALSE
SUMMARY:Project School Supply
DESCRIPTION:Come out to the Bardstown Walmart and bring your donation(s) of school supplies\, gift cards\, checks or cash and help us fill this bus with school supplies for area schools so that no child will have to start school will have to begin school without the tools to make them all successful!!
X-ALT-DESC;FMTTYPE=text/html:<span style="color: rgb(29\, 33\, 41)\; font-family: Helvetica\, Arial\, sans-serif\; font-size: 14px\; background-color: rgb(255\, 255\, 255)\;">Come out to the Bardstown Walmart and bring your donation(s) of school supplies\, gift cards\, checks or cash and help us fill this bus with school supplies for area schools so that no child will have to start school will have to begin school without the tools to make them all successful!!</span>
LOCATION:
UID:e.2912.1527
SEQUENCE:3
DTSTAMP:20260419T225801Z
URL:https://members.bardstownchamber.com/events/details/project-school-supply-1527
END:VEVENT

END:VCALENDAR
