BEGIN:VCALENDAR
VERSION:2.0
PRODID:-//ChamberMaster//Event Calendar 2.0//EN
METHOD:PUBLISH
X-PUBLISHED-TTL:P3D
REFRESH-INTERVAL:P3D
CALSCALE:GREGORIAN
BEGIN:VEVENT
DTSTART:20180806T213000Z
DTEND:20180806T234500Z
X-MICROSOFT-CDO-ALLDAYEVENT:FALSE
SUMMARY:Prime Time Performance Youth Fitness Sessions
DESCRIPTION:Prime Time Performance is hosting a 4-Week Fitness Session for Youth 5-18 years old. The sessions will run once per week\, 1 hour each\, for a total of 4 weeks. The sessions will focus on improving youth's health\, confidence and sports performance. To register visit the website www.ptperformers.com or call 859-229-3721. The August Calendar is as follows:\n\n\n\nMonday\, August 6th\n\n5:30-6:30pm - 5-6 years old\n\n6:45-7:45pm - 7-11 years old\n\n\n\nWednesday\, August 8th\n\n5:30-6:30 - 7-11 years old\n\n\n\nSunday\, August 12th\n\n3:15-4:15pm - 7-11 years old\n\n4:30-5:30pm - 12-18 years old
X-ALT-DESC;FMTTYPE=text/html:Prime Time Performance is hosting a 4-Week Fitness Session for Youth 5-18 years old. The sessions will run once per week\, 1 hour each\, for a total of 4 weeks. The sessions will focus on improving youth&#39\;s health\, confidence and sports performance. To register visit the website www.ptperformers.com or call 859-229-3721. The August Calendar is as follows:<br />\n<br />\nMonday\, August 6th<br />\n5:30-6:30pm - 5-6 years old<br />\n6:45-7:45pm - 7-11 years old<br />\n<br />\nWednesday\, August 8th<br />\n5:30-6:30 - 7-11 years old<br />\n<br />\nSunday\, August 12th<br />\n3:15-4:15pm - 7-11 years old<br />\n4:30-5:30pm - 12-18 years old<br />\n&nbsp\;
LOCATION:955 Frost Avenue Suite C (Behind the Bounce House)
UID:e.2912.1556
SEQUENCE:3
DTSTAMP:20260419T224928Z
URL:https://members.bardstownchamber.com/events/details/prime-time-performance-youth-fitness-sessions-1556
END:VEVENT

END:VCALENDAR
