BEGIN:VCALENDAR
VERSION:2.0
PRODID:-//ChamberMaster//Event Calendar 2.0//EN
METHOD:PUBLISH
X-PUBLISHED-TTL:P3D
REFRESH-INTERVAL:P3D
CALSCALE:GREGORIAN
BEGIN:VEVENT
DTSTART:20200324T140000Z
DTEND:20200324T150000Z
X-MICROSOFT-CDO-ALLDAYEVENT:FALSE
SUMMARY:Postponed! Social Media 101
DESCRIPTION:My name is Elizabeth Wimpsett and I am a Marketing Strategist and the owner of The Social Boutique - Marketing Agency in Bardstown\, KY. \n\nI have over 6 years of experience in Marketing\, a Bachelor's Degree in Marketing\, and 3 years of Marketing Experience in Bardstown\, KY. \n\nI specialize in digital marketing and making the most out of businesses budget with a high return on investment. Small Business owners are the key to our community's success and I take joy in helping them reach their goals and grow their dreams. \n\nThe Social Boutique Marketing Agency is a Marketing Agency that caters and focuses on growth of the small business owner. All plans are tailored to the individual business owner's needs. I would love to talk more about how The Social Boutique Marketing Agency can help your business and dreams grow.
X-ALT-DESC;FMTTYPE=text/html:<span style="font-size: 12pt\; font-family: &quot\;Times New Roman&quot\;\, serif\;">My name is Elizabeth Wimpsett and I am a Marketing Strategist and the owner of The Social Boutique - Marketing Agency in Bardstown\, KY.&nbsp\;<br />\nI have over 6 years of experience in Marketing\, a Bachelor&#39\;s Degree in Marketing\, and 3 years of Marketing Experience in Bardstown\, KY.&nbsp\;<br />\nI specialize in digital marketing and making the most out of businesses budget with a high return on investment. Small Business owners are the key to our community&#39\;s success and I take joy in helping them reach their goals and grow their dreams.&nbsp\;<br />\nThe Social Boutique Marketing Agency is a Marketing Agency that caters and focuses on growth of the small business owner. All plans are tailored to the individual business owner&#39\;s needs. I would love to talk more about how The Social Boutique Marketing Agency can help your business and dreams grow.&nbsp\;</span>
LOCATION:Nelson County Library Community Room 1 201 Cathedral Manor Bardstown\, KY 40004
UID:e.2912.2839
SEQUENCE:3
DTSTAMP:20260419T225046Z
URL:https://members.bardstownchamber.com/events/details/postponed-social-media-101-2839
END:VEVENT

END:VCALENDAR
