BEGIN:VCALENDAR
VERSION:2.0
PRODID:-//ChamberMaster//Event Calendar 2.0//EN
METHOD:PUBLISH
X-PUBLISHED-TTL:P3D
REFRESH-INTERVAL:P3D
CALSCALE:GREGORIAN
BEGIN:VEVENT
DTSTART:20200428T123000Z
DTEND:20200428T133000Z
X-MICROSOFT-CDO-ALLDAYEVENT:FALSE
SUMMARY:Postponed! Morning Connect hosted by Land Mark of Bardstown
DESCRIPTION:The Connect gives our members a place to network with other business members as well as learn about all that the Sponsors business has to offer.\n\n\n\nLandmark Of Bardstown Rehabilitation And Nursing started providing nursing home service since Feb 13th\, 1978\, Come meet their staff and residents.
X-ALT-DESC;FMTTYPE=text/html:<br />\nThe Connect gives our members a place to network with other business members as well as learn about all that the Sponsors business has to offer.<br />\n<br />\n<span style="font-family:arial\;"><em style="box-sizing: border-box\; font-family: Raleway\, &quot\;Helvetica Neue&quot\;\, Helvetica\, Roboto\, Arial\, sans-serif\; color: rgb(51\, 51\, 51)\; font-size: 14px\; background-color: rgb(255\, 255\, 255)\;">Landmark Of Bardstown Rehabilitation And Nursing started providing nursing home service since Feb 13th\, 1978\, Come meet their staff and residents.</em></span><br />\n<br />\n<span style="font-size:20px\;"><span style="color: rgb(92\, 92\, 92)\; font-family: &quot\;Maven Pro&quot\;\, sans-serif\; background-color: rgb(255\, 255\, 255)\;">&nbsp\;</span></span>
LOCATION:Land Mark of Bardstown 120 Life Care Way Bardstown\, Kentucky
UID:e.2912.2842
SEQUENCE:3
DTSTAMP:20260420T011820Z
URL:https://members.bardstownchamber.com/events/details/postponed-morning-connect-hosted-by-land-mark-of-bardstown-2842
END:VEVENT

END:VCALENDAR
