BEGIN:VCALENDAR
VERSION:2.0
PRODID:-//ChamberMaster//Event Calendar 2.0//EN
METHOD:PUBLISH
X-PUBLISHED-TTL:P3D
REFRESH-INTERVAL:P3D
CALSCALE:GREGORIAN
BEGIN:VEVENT
DTSTART:20200318T210000Z
DTEND:20200318T220000Z
X-MICROSOFT-CDO-ALLDAYEVENT:FALSE
SUMMARY:Postponed! Connect - WBRT\, WOKH & Jim Beam
DESCRIPTION:Member Benefit: \n\nThe Connect gives our members a place to Connect with other business members as well as learn about all that the Sponsors business has to offer.\n\n\n\nPlease dress in comfortable clothing\, Lots of Food & games.\n\nThis will be a very fun event and a great way to meet new members.
X-ALT-DESC;FMTTYPE=text/html:<span style="font-size:18px\;"><span style="font-family:arial\;"><strong>Member Benefit: </strong><br />\nThe Connect gives our members a place to Connect with other business members as well as learn about all that the Sponsors business has to offer.</span><br />\n<br />\nPlease dress in comfortable clothing\, Lots of Food &amp\; games.<br />\nThis will be a very fun event and a great way to meet new members.&nbsp\;<br />\n<span style="color: rgb(92\, 92\, 92)\; font-family: &quot\;Maven Pro&quot\;\, sans-serif\; background-color: rgb(255\, 255\, 255)\;">&nbsp\;</span></span>
LOCATION:Located at The Bounce House Sponsored by WBRT\, JimBeam 955 Frost Avenue\, Suite C Bardstown\, KY 40004
UID:e.2912.2835
SEQUENCE:3
DTSTAMP:20260419T235644Z
URL:https://members.bardstownchamber.com/events/details/postponed-connect-wbrt-wokh-jim-beam-2835
END:VEVENT

END:VCALENDAR
