BEGIN:VCALENDAR
VERSION:2.0
PRODID:-//ChamberMaster//Event Calendar 2.0//EN
METHOD:PUBLISH
X-PUBLISHED-TTL:P3D
REFRESH-INTERVAL:P3D
CALSCALE:GREGORIAN
BEGIN:VEVENT
DTSTART:20200520T210000Z
DTEND:20200520T220000Z
X-MICROSOFT-CDO-ALLDAYEVENT:FALSE
SUMMARY:Postponed! Connect - Business After Hours Talbott Tavern
DESCRIPTION:Member Benefit: \n\nThe Connect gives our members a place to network with other business members as well as learn about all that the Sponsors business has to offer.
X-ALT-DESC;FMTTYPE=text/html:<span style="font-size:18px\;"><span style="font-family:arial\;"><strong>Member Benefit: </strong><br />\nThe Connect gives our members a place to network with other business members as well as learn about all that the Sponsors business has to offer.</span><br />\n<span style="color: rgb(92\, 92\, 92)\; font-family: &quot\;Maven Pro&quot\;\, sans-serif\; background-color: rgb(255\, 255\, 255)\;">&nbsp\;</span></span>
LOCATION:Located at The Old Talbott Tavern 107 W. Stephen Foster Ave. Bardstown\, KY 40004
UID:e.2912.2838
SEQUENCE:3
DTSTAMP:20260420T012201Z
URL:https://members.bardstownchamber.com/events/details/postponed-connect-business-after-hours-talbott-tavern-2838
END:VEVENT

END:VCALENDAR
