BEGIN:VCALENDAR
VERSION:2.0
PRODID:-//ChamberMaster//Event Calendar 2.0//EN
METHOD:PUBLISH
X-PUBLISHED-TTL:P3D
REFRESH-INTERVAL:P3D
CALSCALE:GREGORIAN
BEGIN:VEVENT
DTSTART:20200415T210000Z
DTEND:20200415T220000Z
X-MICROSOFT-CDO-ALLDAYEVENT:FALSE
SUMMARY:Postponed! 5:00 pm Connect Hosted by Barton's 1792
DESCRIPTION:Member Benefit: \n\nThe 5:00 pm Connect gives our members a place to network with other business members as well as learn about all that the Sponsors business.\n\nBarton's 1792 Distillery was Established in 1879 and continues today as the\n\noldest fully-operating Distillery in Bardstown\, Kentucky. The Distillery offers complimentary tours daily.
X-ALT-DESC;FMTTYPE=text/html:<span style="font-size:18px\;"><span style="font-family:arial\;"><strong>Member Benefit: </strong><br />\nThe 5:00 pm Connect gives our members a place to network with other business members as well as learn about all that the Sponsors business.<br />\n<strong>Barton&#39\;s 1792 Distillery </strong>was Established in 1879 and continues today as the<br />\noldest fully-operating Distillery in Bardstown\, Kentucky. The Distillery offers complimentary tours daily.&nbsp\;</span></span>\n<p style="box-sizing: border-box\; margin: 10px 0px\; max-width: 500px\; line-height: 1.4\; font-size: 16px\; color: rgb(255\, 247\, 201)\; font-family: Telefon\; background-color: rgb(0\, 0\, 0)\;">&nbsp\;</p>\n
LOCATION:Barton 1792 Distillery 501 Cathedral Manor Bardstown\, KY 40004
UID:e.2912.2837
SEQUENCE:3
DTSTAMP:20260420T010451Z
URL:https://members.bardstownchamber.com/events/details/postponed-5-00-pm-connect-hosted-by-barton-s-1792-2837
END:VEVENT

END:VCALENDAR
