BEGIN:VCALENDAR
VERSION:2.0
PRODID:-//ChamberMaster//Event Calendar 2.0//EN
METHOD:PUBLISH
X-PUBLISHED-TTL:P3D
REFRESH-INTERVAL:P3D
CALSCALE:GREGORIAN
BEGIN:VEVENT
DTSTART:20180604T220000Z
DTEND:20180605T010000Z
X-MICROSOFT-CDO-ALLDAYEVENT:FALSE
SUMMARY:Pokémon TCG Casual Play
DESCRIPTION:Pok mon TCG Casual Play using extended format.\n\n\nA great opportunity to learn the Pok mon trading card game\, build your deck\, learn the mechanics and enjoy the spirt of the game.\nSpirit of the Game\n\n\nPlay! Pok mon events are enjoyed for their atmosphere of friendly competition and good sportsmanship. The objective for every Play! Pok mon tournament is that every participant has fun while also playing at their best.\n\nWe want everyone who participates in Play! Pok mon events to keep these principles in mind fun\, fairness\, honesty\, respect\, sportsmanship\, and learning. Together\, these principles make up our Spirit of the Game.\n\n\n\nIf you are new to Pok mon or experienced join us on every other Monday evening for Play! Pok mon to gain experience\, meet new friends and get great prizes.\n\n\n\nEntry fee is only $5 and gets you the latest Booster Pack from the series.
X-ALT-DESC;FMTTYPE=text/html:<h1>Pok&eacute\;mon TCG Casual Play using extended format.</h1>\n<br />\nA great opportunity to learn the Pok&eacute\;mon trading card game\, build your deck\, learn the mechanics and enjoy the spirt of the game.\n<h1>Spirit of the Game</h1>\n\n<div>\n<p>Play! Pok&eacute\;mon events are enjoyed for their atmosphere of friendly competition and good sportsmanship. The objective for every Play! Pok&eacute\;mon tournament is that every participant has fun while also playing at their best.</p>\n\n<p>We want everyone who participates in Play! Pok&eacute\;mon events to keep these principles in mind&mdash\;fun\, fairness\, honesty\, respect\, sportsmanship\, and learning. Together\, these principles make up our Spirit of the Game.<br />\n<br />\nIf you are new to&nbsp\;Pok&eacute\;mon or experienced join us on every other Monday evening for Play!&nbsp\;Pok&eacute\;mon to gain experience\, meet new friends and get great prizes.<br />\n<br />\nEntry fee is only $5 and gets you the latest Booster Pack from the series.</p>\n</div>\n&nbsp\;
LOCATION:GameScience Dice Depot 601 W Stephen Foster Ave Ste 16 Bardstown KY 40004 (502) 337-7323
UID:e.2912.1505
SEQUENCE:3
DTSTAMP:20260420T000707Z
URL:https://members.bardstownchamber.com/events/details/pok&#233;mon-tcg-casual-play-1505
END:VEVENT

END:VCALENDAR
