BEGIN:VCALENDAR
VERSION:2.0
PRODID:-//ChamberMaster//Event Calendar 2.0//EN
METHOD:PUBLISH
X-PUBLISHED-TTL:P3D
REFRESH-INTERVAL:P3D
CALSCALE:GREGORIAN
BEGIN:VEVENT
DTSTART:20191210T190000Z
DTEND:20191210T210000Z
X-MICROSOFT-CDO-ALLDAYEVENT:FALSE
SUMMARY:Personal Productivity Class with ECTC
DESCRIPTION:Personal Productivity\n\nPersonal Productivity is a goal most of us have.  Through this class\, your participants will be on the right track in achieving that goal.  Some people blame everything that goes wrong in their life on something or someone else\, but through this class\, your participants will take ownership and begin to lead a more productive life.\n\n\n\n\n\nThe Mobile Training Unit (MTU) has arrived at ECTC.  In order for our communities to see and experience the MTU\, we are immediately taking it on the road.  We will also be offering a FREE two-hour essential skills training class to our area business and industry partners.
X-ALT-DESC;FMTTYPE=text/html:<span style="font-size:16px\;"><span style="font-family:arial\;">&nbsp\;<strong>Personal Productivity</strong><br />\nPersonal Productivity is a goal most of us have.&nbsp\; Through this class\, your participants will be on the right track in achieving that goal.&nbsp\; Some people blame everything that goes wrong in their life on something or someone else\, but through this class\, your participants will take ownership and begin to lead a more productive life.<br />\n<br />\n<br />\nThe Mobile Training Unit (MTU) has arrived at ECTC.&nbsp\; In order for our communities to see and experience the MTU\, we are immediately taking it on the road.&nbsp\; We will also be offering a <span style="background:yellow\;">FREE</span> two-hour essential skills training class to our area business and industry partners.</span></span>
LOCATION:ECTC Bus Parked at The Old Courthouse One Court Square Bardstown\, KY 40004
UID:e.2912.2821
SEQUENCE:3
DTSTAMP:20260419T181522Z
URL:https://members.bardstownchamber.com/events/details/personal-productivity-class-with-ectc-2821
END:VEVENT

END:VCALENDAR
