BEGIN:VCALENDAR
VERSION:2.0
PRODID:-//ChamberMaster//Event Calendar 2.0//EN
METHOD:PUBLISH
X-PUBLISHED-TTL:P3D
REFRESH-INTERVAL:P3D
CALSCALE:GREGORIAN
BEGIN:VEVENT
DTSTART:20180621T140000Z
DTEND:20180621T190000Z
X-MICROSOFT-CDO-ALLDAYEVENT:FALSE
SUMMARY:People Ready Summer Hiring Event
DESCRIPTION:600 E John Rowan Blvd\n\n502-331-9675\n\n10-3pm\n\nBring 2 forms of ID and Resume \n\nCook out and Door Prizes
X-ALT-DESC;FMTTYPE=text/html:600 E John Rowan Blvd<br />\n502-331-9675<br />\n10-3pm<br />\nBring 2 forms of ID and Resume&nbsp\;<br />\nCook out and Door Prizes&nbsp\;
LOCATION:
UID:e.2912.1518
SEQUENCE:3
DTSTAMP:20260420T010324Z
URL:https://members.bardstownchamber.com/events/details/people-ready-summer-hiring-event-1518
END:VEVENT

END:VCALENDAR
