BEGIN:VCALENDAR
VERSION:2.0
PRODID:-//ChamberMaster//Event Calendar 2.0//EN
METHOD:PUBLISH
X-PUBLISHED-TTL:P3D
REFRESH-INTERVAL:P3D
CALSCALE:GREGORIAN
BEGIN:VEVENT
DTSTART:20181019T143000Z
DTEND:20181019T180000Z
X-MICROSOFT-CDO-ALLDAYEVENT:FALSE
SUMMARY:Patient Appreciation DAY!
DESCRIPTION:Our patients are like family!  As a small token of appreciation\, we have teamed up with Uncle Ham's barbecue for this SPECIAL event.  Patients\, friends\, families--swing by and have lunch on us\, sign up for AMAZING door prizes\, and free giveaways (while they last)  See you there!!!
X-ALT-DESC;FMTTYPE=text/html:Our patients are like family!&nbsp\; As a small token of appreciation\, we have teamed up with Uncle Ham&#39\;s barbecue for this SPECIAL event.&nbsp\; Patients\, friends\, families--swing by and have lunch on us\, sign up for AMAZING door prizes\, and free giveaways (while they last)&nbsp\; See you there!!!
LOCATION:Bardstown Dental Care 919 Chambers Blvd Bardstown\, KY 40004
UID:e.2912.1620
SEQUENCE:3
DTSTAMP:20260419T181615Z
URL:https://members.bardstownchamber.com/events/details/patient-appreciation-day-1620
END:VEVENT

END:VCALENDAR
