BEGIN:VCALENDAR
VERSION:2.0
PRODID:-//ChamberMaster//Event Calendar 2.0//EN
METHOD:PUBLISH
X-PUBLISHED-TTL:P3D
REFRESH-INTERVAL:P3D
CALSCALE:GREGORIAN
BEGIN:VEVENT
DTSTART:20180518T200000Z
DTEND:20180518T220000Z
X-MICROSOFT-CDO-ALLDAYEVENT:FALSE
SUMMARY:Open Mic Night at Fresh
DESCRIPTION:It's going down again next Friday night! We can't wait to see y'all sharing your talents with everyone. Sign ups start at 3:30pm.
X-ALT-DESC;FMTTYPE=text/html:<span style="color: rgb(75\, 79\, 86)\; font-family: Helvetica\, Arial\, sans-serif\; font-size: 14px\; background-color: rgb(255\, 255\, 255)\;">It&#39\;s going down again next Friday night! We can&#39\;t wait to see y&#39\;all sharing your talents with everyone. Sign ups start at 3:30pm. &#128522\;&#10084\;&#65039\;&#127908\;</span>
LOCATION:
UID:e.2912.1475
SEQUENCE:3
DTSTAMP:20260420T010707Z
URL:https://members.bardstownchamber.com/events/details/open-mic-night-at-fresh-1475
END:VEVENT

END:VCALENDAR
