BEGIN:VCALENDAR
VERSION:2.0
PRODID:-//ChamberMaster//Event Calendar 2.0//EN
METHOD:PUBLISH
X-PUBLISHED-TTL:P3D
REFRESH-INTERVAL:P3D
CALSCALE:GREGORIAN
BEGIN:VEVENT
DTSTART:20180814T200000Z
DTEND:20180814T210000Z
X-MICROSOFT-CDO-ALLDAYEVENT:FALSE
SUMMARY:Open house for The Hair Gallery
DESCRIPTION:
X-ALT-DESC;FMTTYPE=text/html:
LOCATION:101 Buchannon Road\, Bardstown Ky 40004
UID:e.2912.1566
SEQUENCE:3
DTSTAMP:20260419T211952Z
URL:https://members.bardstownchamber.com/events/details/open-house-for-the-hair-gallery-1566
END:VEVENT

END:VCALENDAR
