BEGIN:VCALENDAR
VERSION:2.0
PRODID:-//ChamberMaster//Event Calendar 2.0//EN
METHOD:PUBLISH
X-PUBLISHED-TTL:P3D
REFRESH-INTERVAL:P3D
CALSCALE:GREGORIAN
BEGIN:VEVENT
DTSTART:20171129T233000Z
DTEND:20171130T010000Z
X-MICROSOFT-CDO-ALLDAYEVENT:FALSE
SUMMARY:Open House at St. Joseph Montessori Children's Center
DESCRIPTION:Come Join us for a Open House for anyone that may be interested in the Montessori Philosophy.
X-ALT-DESC;FMTTYPE=text/html:Come Join us for a Open House for anyone that may be interested in the Montessori Philosophy.
LOCATION:St. Joseph Montessori Children's Center
UID:e.2912.1408
SEQUENCE:3
DTSTAMP:20260424T092404Z
URL:https://members.bardstownchamber.com/events/details/open-house-at-st-joseph-montessori-children-s-center-1408
END:VEVENT

END:VCALENDAR
