BEGIN:VCALENDAR
VERSION:2.0
PRODID:-//ChamberMaster//Event Calendar 2.0//EN
METHOD:PUBLISH
X-PUBLISHED-TTL:P3D
REFRESH-INTERVAL:P3D
CALSCALE:GREGORIAN
BEGIN:VEVENT
DTSTART:20191029T200000Z
DTEND:20191029T230000Z
X-MICROSOFT-CDO-ALLDAYEVENT:FALSE
SUMMARY:Open House
DESCRIPTION:You don't want to miss this    \n\n\n\nJoin us on October 29th from 4-7PM for Skin Deep Rejuvenation Center's OPEN HOUSE!!! \n\n\n\nGiveaways\, special pricing\, skin care deals and more!! \n\n\n\nCome and celebrate with us! Tag a friend in the comments that should join you!
X-ALT-DESC;FMTTYPE=text/html:<span style="color: rgb(29\, 33\, 41)\; font-family: Helvetica\, Arial\, sans-serif\; font-size: 14px\; white-space: pre-wrap\; background-color: rgb(255\, 255\, 255)\;">&#11088\;&#65039\; You don&rsquo\;t want to miss this &#11088\;&#65039\; </span><br style="color: rgb(29\, 33\, 41)\; font-family: Helvetica\, Arial\, sans-serif\; font-size: 14px\; white-space: pre-wrap\; background-color: rgb(255\, 255\, 255)\;" />\n<br style="color: rgb(29\, 33\, 41)\; font-family: Helvetica\, Arial\, sans-serif\; font-size: 14px\; white-space: pre-wrap\; background-color: rgb(255\, 255\, 255)\;" />\n<span style="color: rgb(29\, 33\, 41)\; font-family: Helvetica\, Arial\, sans-serif\; font-size: 14px\; white-space: pre-wrap\; background-color: rgb(255\, 255\, 255)\;">Join us on October 29th from 4-7PM for Skin Deep Rejuvenation Center&rsquo\;s OPEN HOUSE!!! </span><br style="color: rgb(29\, 33\, 41)\; font-family: Helvetica\, Arial\, sans-serif\; font-size: 14px\; white-space: pre-wrap\; background-color: rgb(255\, 255\, 255)\;" />\n<br style="color: rgb(29\, 33\, 41)\; font-family: Helvetica\, Arial\, sans-serif\; font-size: 14px\; white-space: pre-wrap\; background-color: rgb(255\, 255\, 255)\;" />\n<span style="color: rgb(29\, 33\, 41)\; font-family: Helvetica\, Arial\, sans-serif\; font-size: 14px\; white-space: pre-wrap\; background-color: rgb(255\, 255\, 255)\;">Giveaways\, special pricing\, skin care deals and more!! </span><br style="color: rgb(29\, 33\, 41)\; font-family: Helvetica\, Arial\, sans-serif\; font-size: 14px\; white-space: pre-wrap\; background-color: rgb(255\, 255\, 255)\;" />\n<br style="color: rgb(29\, 33\, 41)\; font-family: Helvetica\, Arial\, sans-serif\; font-size: 14px\; white-space: pre-wrap\; background-color: rgb(255\, 255\, 255)\;" />\n<span style="color: rgb(29\, 33\, 41)\; font-family: Helvetica\, Arial\, sans-serif\; font-size: 14px\; white-space: pre-wrap\; background-color: rgb(255\, 255\, 255)\;">Come and celebrate with us! Tag a friend in the comments that should join you!</span>
LOCATION:pin Skin Deep Rejuvenation Center 8 Old Bloomfield Pike Suite 400\, Bardstown\, Kentucky 40004
UID:e.2912.1809
SEQUENCE:3
DTSTAMP:20260419T145112Z
URL:https://members.bardstownchamber.com/events/details/open-house-1809
END:VEVENT

END:VCALENDAR
