BEGIN:VCALENDAR
VERSION:2.0
PRODID:-//ChamberMaster//Event Calendar 2.0//EN
METHOD:PUBLISH
X-PUBLISHED-TTL:P3D
REFRESH-INTERVAL:P3D
CALSCALE:GREGORIAN
BEGIN:VEVENT
DTSTART:20251027T160000Z
DTEND:20251027T170000Z
X-MICROSOFT-CDO-ALLDAYEVENT:FALSE
SUMMARY:Old SteelHouse Distillery Ribbon Cutting
DESCRIPTION:Ribbon Cutting Celebration!\n\n \n\n\nOld SteelHouse Distillery Tasting Room \n\n124 N. 3rd Street \n\nBardstown\, KY  40004\n\n \n\nOctober 27\, 2025\n\nNoon
X-ALT-DESC;FMTTYPE=text/html:<div style="text-align: center\;"><em><span font-size:="" trebuchet=""><span style="font-family: arial\, sans-serif\; font-size: 26px\;"><span style="font-size:24px\;"><span style="font-family:arial\;">&nbsp\;Ribbon Cutting Celebration!</span></span></span></span></em><br />\n&nbsp\;</div>\n\n<div style="color: rgb(51\, 51\, 51)\;">\n<div style="text-align: center\;"><span style="font-size:20px\;"><strong>Old SteelHouse Distillery Tasting Room&nbsp\;</strong><br />\n124 N. 3rd Street&nbsp\;</span></div>\n\n<div style="text-align: center\;"><span style="font-size:20px\;">Bardstown\, KY&nbsp\; 40004</span></div>\n\n<div style="text-align: center\;">&nbsp\;</div>\n\n<div style="text-align: center\;"><span style="font-size:20px\;">October 27\, 2025</span></div>\n\n<div style="text-align: center\;"><span style="font-size:20px\;">Noon&nbsp\;</span></div>\n</div>\n
LOCATION:
UID:e.2912.3578
SEQUENCE:3
DTSTAMP:20260424T164201Z
URL:https://members.bardstownchamber.com/events/details/old-steelhouse-distillery-ribbon-cutting-3578
END:VEVENT

END:VCALENDAR
