BEGIN:VCALENDAR
VERSION:2.0
PRODID:-//ChamberMaster//Event Calendar 2.0//EN
METHOD:PUBLISH
X-PUBLISHED-TTL:P3D
REFRESH-INTERVAL:P3D
CALSCALE:GREGORIAN
BEGIN:VEVENT
DTSTART:20180606T153000Z
DTEND:20180606T170000Z
X-MICROSOFT-CDO-ALLDAYEVENT:FALSE
SUMMARY:OKH Realtors Annual Affiliates & Community Appreciation Cookout
DESCRIPTION:OKH Board of REALTORS is a Professional Association of about 100 dedicated real estate pros! We are blessed to serve a community who partners with us to make us\, and the community better! This is our time to THANK YOU! Come out for some good ol food\, drink\, friends! And let us treat you! (We'll have a drop off box for Project School Supply- or you can join us for that event in JULY!)
X-ALT-DESC;FMTTYPE=text/html:<span style="color: rgb(29\, 33\, 41)\; font-family: Helvetica\, Arial\, sans-serif\; font-size: 14px\; background-color: rgb(255\, 255\, 255)\;">OKH Board of REALTORS is a Professional Association of about 100 dedicated real estate pros! We are blessed to serve a community who partners with us to make us\, and the community better! This is our time to THANK YOU! Come out for some good ol food\, drink\, friends! And let us treat you! (We&#39\;ll have a drop off box for Project School Supply- or you can join us for that event in JULY!)</span>
LOCATION:pin Bardstown Farmers Market 200 East Flaget\, Bardstown\, Kentucky 40004
UID:e.2912.1514
SEQUENCE:3
DTSTAMP:20260420T000234Z
URL:https://members.bardstownchamber.com/events/details/okh-realtors-annual-affiliates-community-appreciation-cookout-1514
END:VEVENT

END:VCALENDAR
