BEGIN:VCALENDAR
VERSION:2.0
PRODID:-//ChamberMaster//Event Calendar 2.0//EN
METHOD:PUBLISH
X-PUBLISHED-TTL:P3D
REFRESH-INTERVAL:P3D
CALSCALE:GREGORIAN
BEGIN:VEVENT
DTSTART;VALUE=DATE:20221007
DTEND;VALUE=DATE:20221008
TRANSP:TRANSPARENT
X-MICROSOFT-CDO-ALLDAYEVENT:TRUE
SUMMARY:NPR Open House
DESCRIPTION:NPR of America\, Inc Open House\n\n680 Wilson Pkwy.\n\nBardstown\, KY 40004\n\n\n\nOctober 7th 4-7pm \n\n\n\nOpen to the Public\n\nRefreshments and Giveaways!
X-ALT-DESC;FMTTYPE=text/html:<span style="font-size:16px\;"><span style="font-family:comic sans ms\;">NPR of America\, Inc Open House</span></span><br />\n<span style="color: rgb(51\, 51\, 51)\; font-family: &quot\;comic sans ms&quot\;\; font-size: 16px\; background-color: rgb(255\, 255\, 255)\;">680 Wilson Pkwy.</span><br style="color: rgb(51\, 51\, 51)\; font-family: &quot\;comic sans ms&quot\;\; font-size: 16px\; background-color: rgb(255\, 255\, 255)\;" />\n<span style="color: rgb(51\, 51\, 51)\; font-family: &quot\;comic sans ms&quot\;\; font-size: 16px\; background-color: rgb(255\, 255\, 255)\;">Bardstown\, KY 40004</span><br />\n<br />\n<span style="font-size:16px\;"><span style="font-family:comic sans ms\;">October 7th 4-7pm&nbsp\;<br />\n<br />\nOpen to the Public<br />\nRefreshments and Giveaways!&nbsp\;</span></span>
LOCATION:680 Wilson Pkwy. Bardstown\, KY 40004
UID:e.2912.3175
SEQUENCE:3
DTSTAMP:20260419T145138Z
URL:https://members.bardstownchamber.com/events/details/npr-open-house-3175
END:VEVENT

END:VCALENDAR
