BEGIN:VCALENDAR
VERSION:2.0
PRODID:-//ChamberMaster//Event Calendar 2.0//EN
METHOD:PUBLISH
X-PUBLISHED-TTL:P3D
REFRESH-INTERVAL:P3D
CALSCALE:GREGORIAN
BEGIN:VEVENT
DTSTART:20180807T230000Z
DTEND:20180808T000000Z
X-MICROSOFT-CDO-ALLDAYEVENT:FALSE
SUMMARY:New Riders Clinic at KORT
DESCRIPTION:KORT Bardstown Physical Therapist\, Elliot Mattingly\, PT\, DPT\,\n\ninvites new cyclists of all ages for a New Riders Clinic to discuss\n\nthe rules of the road\, cycling safety\, bike maintenance and other\n\nimportant information to prepare them for safe riding.
X-ALT-DESC;FMTTYPE=text/html:KORT Bardstown Physical Therapist\, Elliot Mattingly\, PT\, DPT\,<br />\ninvites new cyclists of all ages for a New Riders Clinic to discuss<br />\nthe rules of the road\, cycling safety\, bike maintenance and other<br />\nimportant information to prepare them for safe riding.
LOCATION:KORT Physical Therapy 875 Pennsylvania Ave Bardstown\, KY 40004
UID:e.2912.1560
SEQUENCE:3
DTSTAMP:20260419T224843Z
URL:https://members.bardstownchamber.com/events/details/new-riders-clinic-at-kort-1560
END:VEVENT

END:VCALENDAR
