BEGIN:VCALENDAR
VERSION:2.0
PRODID:-//ChamberMaster//Event Calendar 2.0//EN
METHOD:PUBLISH
X-PUBLISHED-TTL:P3D
REFRESH-INTERVAL:P3D
CALSCALE:GREGORIAN
BEGIN:VEVENT
DTSTART:20200310T130000Z
DTEND:20200310T140000Z
X-MICROSOFT-CDO-ALLDAYEVENT:FALSE
SUMMARY:New Member Class
DESCRIPTION:Welcome New Chamber members!!!\n\nLisa Thomas will be teaching a new member class to those that would like to learn more about the chamber and how we can help you.\n\n*Learn how to post a job\n\n*Learn how to update your profile\n\n*Learn about the events you can attend\n\n*Learn about our New Insurance\n\n* Ask Questions \n\nPlease bring a Labtop\, Phone or tablet
X-ALT-DESC;FMTTYPE=text/html:Welcome New Chamber members!!!<br />\nLisa Thomas will be teaching a new member class to those that would like to learn more about the chamber and how we can help you.<br />\n*Learn how to post a job<br />\n*Learn how to update your profile<br />\n*Learn about the events you can attend<br />\n*Learn about our New Insurance<br />\n* Ask Questions&nbsp\;<br />\nPlease bring a Labtop\, Phone or tablet&nbsp\;
LOCATION:Fresh Coffee pastries & More
UID:e.2912.2833
SEQUENCE:3
DTSTAMP:20260419T224442Z
URL:https://members.bardstownchamber.com/events/details/new-member-class-2833
END:VEVENT

END:VCALENDAR
