BEGIN:VCALENDAR
VERSION:2.0
PRODID:-//ChamberMaster//Event Calendar 2.0//EN
METHOD:PUBLISH
X-PUBLISHED-TTL:P3D
REFRESH-INTERVAL:P3D
CALSCALE:GREGORIAN
BEGIN:VEVENT
DTSTART:20200403T003000Z
DTEND:20200403T013000Z
X-MICROSOFT-CDO-ALLDAYEVENT:FALSE
SUMMARY:Nelson County Schools Community Brew Live!
DESCRIPTION:Nelson County Schools Community Brew Live on Thursday\, April 2 at 8:30 a.m.  I am super excited about the discussion.\n\n \n\nMark Perna\, author of "Answering Why:  Unleashing Passion\, Purpose\, & Performance In the Younger Generations"\, will be joining us for the discussion!  \n\nWe will be exploring questions around his book and article linked here.  \n\n \n\nI hope you all can watch and join the chat as we think about ways education and employers can work together as we prepare tomorrow's workforce!
X-ALT-DESC;FMTTYPE=text/html:Nelson County Schools Community Brew Live on Thursday\, April 2 at 8:30 a.m.&nbsp\; I am super excited about the discussion.<br />\n&nbsp\;<br />\nMark Perna\, author of&nbsp\;&quot\;Answering Why:&nbsp\; Unleashing Passion\, Purpose\, &amp\; Performance In the Younger Generations&quot\;\, will be joining us for the discussion!&nbsp\;&nbsp\;<br />\nWe will be exploring questions around his book and article linked <a href="https://www.gettingsmart.com/2019/03/motivating-young-people-to-pursue-the-professions-of-the-future/" target="_blank">here</a>.&nbsp\;&nbsp\;<br />\n&nbsp\;<br />\nI hope you all can watch and join the chat as we think about ways education and employers&nbsp\;can work together as we prepare tomorrow&#39\;s workforce!<br />\n&nbsp\;
LOCATION:View Live Conversation on You Tube https://youtu.be/WcU7ssoDYhU
UID:e.2912.2848
SEQUENCE:3
DTSTAMP:20260419T235849Z
URL:https://members.bardstownchamber.com/events/details/nelson-county-schools-community-brew-live-2848
END:VEVENT

END:VCALENDAR
