BEGIN:VCALENDAR
VERSION:2.0
PRODID:-//ChamberMaster//Event Calendar 2.0//EN
METHOD:PUBLISH
X-PUBLISHED-TTL:P3D
REFRESH-INTERVAL:P3D
CALSCALE:GREGORIAN
BEGIN:VEVENT
DTSTART:20180714T160000Z
DTEND:20180714T163000Z
X-MICROSOFT-CDO-ALLDAYEVENT:FALSE
SUMMARY:Nelson County Republican party Ribbon Cutting
DESCRIPTION:Nelson County Republican Party Ribbon Cutting and  grand opening.
X-ALT-DESC;FMTTYPE=text/html:Nelson County Republican Party Ribbon Cutting and&nbsp\;<span style="color: rgb(29\, 33\, 41)\; font-family: Helvetica\, Arial\, sans-serif\; font-size: 14px\; background-color: rgb(255\, 255\, 255)\;">&nbsp\;grand opening.</span>
LOCATION:pin 512 E Stephen Foster Ave\, Bardstown\, KY 40004-2203\, United States
UID:e.2912.1529
SEQUENCE:3
DTSTAMP:20260419T225247Z
URL:https://members.bardstownchamber.com/events/details/nelson-county-republican-party-ribbon-cutting-1529
END:VEVENT

END:VCALENDAR
