BEGIN:VCALENDAR
VERSION:2.0
PRODID:-//ChamberMaster//Event Calendar 2.0//EN
METHOD:PUBLISH
X-PUBLISHED-TTL:P3D
REFRESH-INTERVAL:P3D
CALSCALE:GREGORIAN
BEGIN:VEVENT
DTSTART:20241205T163000Z
DTEND:20241205T173000Z
X-MICROSOFT-CDO-ALLDAYEVENT:FALSE
SUMMARY:Nelson County Market Day Ribbon Cutting
DESCRIPTION:Join Us for a Ribbon Cutting\n\n\nNelson County Market Day\n\n\n\n1070 Bloomfield Rd.\,  \n\nBardstown\, KY 40004\n\n\n\nDecember 5th \n\n11:30am - 12:00pm
X-ALT-DESC;FMTTYPE=text/html:<span style="color: rgb(0\, 0\, 0)\;"><span style="font-family: arial\, sans-serif\; font-size: 26px\;">Join Us for a Ribbon Cutting</span></span>\n<div><br />\n<span style="color: rgb(0\, 0\, 0)\;"><span style="font-size: 26px\;">Nelson County Market Day</span><br />\n<br style="font-family: arial\, sans-serif\; font-size: 26px\;" />\n<font face="arial\, sans-serif"><span style="font-size: 26px\;">1070 Bloomfield&nbsp\;Rd.\,&nbsp\;&nbsp\;<br />\nBardstown\, KY 40004</span></font><br style="font-family: arial\, sans-serif\; font-size: 26px\;" />\n<br style="font-family: arial\, sans-serif\; font-size: 26px\;" />\n<span style="font-size: 26px\; font-family: arial\, sans-serif\;">December 5th&nbsp\;</span><br style="font-family: arial\, sans-serif\; font-size: 26px\;" />\n<span style="font-size: 26px\; font-family: arial\, sans-serif\;">11:30am - 12:00pm</span></span></div>\n
LOCATION:
UID:e.2912.3473
SEQUENCE:3
DTSTAMP:20260424T170156Z
URL:https://members.bardstownchamber.com/events/details/nelson-county-market-day-ribbon-cutting-3473
END:VEVENT

END:VCALENDAR
