BEGIN:VCALENDAR
VERSION:2.0
PRODID:-//ChamberMaster//Event Calendar 2.0//EN
METHOD:PUBLISH
X-PUBLISHED-TTL:P3D
REFRESH-INTERVAL:P3D
CALSCALE:GREGORIAN
BEGIN:VEVENT
DTSTART;VALUE=DATE:20180717
DTEND;VALUE=DATE:20180722
TRANSP:TRANSPARENT
X-MICROSOFT-CDO-ALLDAYEVENT:TRUE
SUMMARY:Nelson County Fair
DESCRIPTION:uly 17-21   Midway rides\, games\, music\, animals\, tractor pulls\, demolition derbies and much more. Nelson County Fairgrounds\, 2391 New Haven Rd. on US 31E South. 502-348-4877 or 800-638-4877. For complete schedule visit www.nelsoncofair.com
X-ALT-DESC;FMTTYPE=text/html:<span style="font-family: Arial\, Helvetica\, sans-serif\; font-size: 14px\;">uly 17-21 &ndash\; Midway rides\, games\, music\, animals\, tractor pulls\, demolition derbies and much more. Nelson County Fairgrounds\, 2391 New Haven Rd. on US 31E South. 502-348-4877 or 800-638-4877. For complete schedule visit www.nelsoncofair.com</span>
LOCATION:
UID:e.2912.1444
SEQUENCE:3
DTSTAMP:20260419T224029Z
URL:https://members.bardstownchamber.com/events/details/nelson-county-fair-1444
END:VEVENT

END:VCALENDAR
