BEGIN:VCALENDAR
VERSION:2.0
PRODID:-//ChamberMaster//Event Calendar 2.0//EN
METHOD:PUBLISH
X-PUBLISHED-TTL:P3D
REFRESH-INTERVAL:P3D
CALSCALE:GREGORIAN
BEGIN:VEVENT
DTSTART:20171021T170000Z
DTEND:20171021T200000Z
X-MICROSOFT-CDO-ALLDAYEVENT:FALSE
SUMMARY:Nelson Co GOP Picnic
DESCRIPTION:Free food/activities for children Meet elected officials Learn about Upcoming 2018 Elections Voter Registration
X-ALT-DESC;FMTTYPE=text/html:Free food/activities for children Meet elected officials Learn about Upcoming 2018 Elections Voter Registration
LOCATION:My Old KY Home State Park Picnic Shelter Loretta Rd/Hwy. 49 across from campgrounds
UID:e.2912.1394
SEQUENCE:3
DTSTAMP:20260424T093059Z
URL:https://members.bardstownchamber.com/events/details/nelson-co-gop-picnic-1394
END:VEVENT

END:VCALENDAR
