BEGIN:VCALENDAR
VERSION:2.0
PRODID:-//ChamberMaster//Event Calendar 2.0//EN
METHOD:PUBLISH
X-PUBLISHED-TTL:P3D
REFRESH-INTERVAL:P3D
CALSCALE:GREGORIAN
BEGIN:VEVENT
DTSTART:20200728T140000Z
DTEND:20200728T150000Z
X-MICROSOFT-CDO-ALLDAYEVENT:FALSE
SUMMARY:Navigating Business in a COVID-19 World
DESCRIPTION:Speaker Ashli Watts\, CEO of the Kentucky Chamber of Commerce will lead a discussion on navigating business and best practices during the current COVID-19 pandemic.
X-ALT-DESC;FMTTYPE=text/html:Speaker Ashli Watts\, CEO of the Kentucky Chamber of Commerce will lead a discussion on navigating business and best practices during the current COVID-19 pandemic.&nbsp\;
LOCATION:Online Via Zoom Link will be sent upon Registration
UID:e.2912.2873
SEQUENCE:3
DTSTAMP:20260420T042517Z
URL:https://members.bardstownchamber.com/events/details/navigating-business-in-a-covid-19-world-2873
END:VEVENT

END:VCALENDAR
