BEGIN:VCALENDAR
VERSION:2.0
PRODID:-//ChamberMaster//Event Calendar 2.0//EN
METHOD:PUBLISH
X-PUBLISHED-TTL:P3D
REFRESH-INTERVAL:P3D
CALSCALE:GREGORIAN
BEGIN:VEVENT
DTSTART:20171111T160000Z
DTEND:20171111T220000Z
X-MICROSOFT-CDO-ALLDAYEVENT:FALSE
SUMMARY:Narcan training
DESCRIPTION:Narcan Training Free Community Event Where: Nelson County Public Library - Community Room #2- Bardstown\, KY. When: November 11\, 2017. 11:00-12:00 PM: Casey's Law Training 12:00 PM: Veteran Support 12:30 PM: Communicare Services 1:00-5:00 PM: B.O.A.T. to provide free Narcan training with free Narcan kits...while supplies last. Free resource tables and free rock painting tables open throughout the event. For questions please contact Unitedforrecoveryky@gmail.com or United For Recovery on Facebook.
X-ALT-DESC;FMTTYPE=text/html:Narcan Training Free Community Event Where: Nelson County Public Library - Community Room #2- Bardstown\, KY. When: November 11\, 2017. 11:00-12:00 PM: Casey&#39\;s Law Training 12:00 PM: Veteran Support 12:30 PM: Communicare Services 1:00-5:00 PM: B.O.A.T. to provide free Narcan training with free Narcan kits...while supplies last. Free resource tables and free rock painting tables open throughout the event. For questions please contact Unitedforrecoveryky@gmail.com or United For Recovery on Facebook.
LOCATION:Nelson County Public Library
UID:e.2912.1396
SEQUENCE:3
DTSTAMP:20260424T082000Z
URL:https://members.bardstownchamber.com/events/details/narcan-training-1396
END:VEVENT

END:VCALENDAR
