BEGIN:VCALENDAR
VERSION:2.0
PRODID:-//ChamberMaster//Event Calendar 2.0//EN
METHOD:PUBLISH
X-PUBLISHED-TTL:P3D
REFRESH-INTERVAL:P3D
CALSCALE:GREGORIAN
BEGIN:VEVENT
DTSTART:20180630T213000Z
DTEND:20180630T230000Z
X-MICROSOFT-CDO-ALLDAYEVENT:FALSE
SUMMARY:Mystery Theater
DESCRIPTION:A popular and unique experience! Make reservations early for one of these sell out events. Tickets include a meal at the Sherwood Inn at which point the who done it play begins. Once dinner is complete\, everyone will board the train for a 7:00 p.m. departure on board the train where the play continues and it is up to the audience to solve the mystery. Prizes are awarded! Menu varies by month. Tickets are $54 per person. Menu choices include sirloin beef tips\, stuffed pork tenderloin\, grilled chicken alfredo or vegetarian garden primavera (menus vary from month to month).\n\n\n\nThis year's performance is titled "Honeymoon from Hell." \n\n"Anything that CAN go wrong\, HAS gone wrong aboard the S.S. Amore\, a not-so-luxurious honeymoon cruise ship. Captain Giovanni Della Robbia is trying to calm the passengers\, with the assistance of the cruise director\, Gina. It's talent night aboard the Amore and Gina recruits audience members to join in the competition. Just when it looks like the cruise won't be a total disaster\, the Captain is murdered. Suspects include honeymooners\, the crew and Chef Fredo\, whose temperament is matched by the large knife he wields."
X-ALT-DESC;FMTTYPE=text/html:<span style="color: rgb(29\, 33\, 41)\; font-family: Helvetica\, Arial\, sans-serif\; font-size: 14px\; background-color: rgb(255\, 255\, 255)\;">A popular and unique experience! Make reservations early for one of these sell out events. Tickets include a meal at the Sherwood Inn at which point the who done it play begins. Once dinner is complete\, everyone will board the train for a 7:00 p.m. departure on board the train where the play continues and it is up to the audience to solve the mystery. Prizes are awarded! Menu varies by month. Tickets are $54 per person. Menu choices include sirloin beef tips\, stuffed pork tenderloin\, grilled chicken alfredo or vegetarian garden primavera (menus vary from month to month).</span><br style="color: rgb(29\, 33\, 41)\; font-family: Helvetica\, Arial\, sans-serif\; font-size: 14px\; background-color: rgb(255\, 255\, 255)\;" />\n<br style="color: rgb(29\, 33\, 41)\; font-family: Helvetica\, Arial\, sans-serif\; font-size: 14px\; background-color: rgb(255\, 255\, 255)\;" />\n<span style="color: rgb(29\, 33\, 41)\; font-family: Helvetica\, Arial\, sans-serif\; font-size: 14px\; background-color: rgb(255\, 255\, 255)\;">This year&#39\;s performance is titled &quot\;Honeymoon from Hell.&quot\;&nbsp\;</span><br style="color: rgb(29\, 33\, 41)\; font-family: Helvetica\, Arial\, sans-serif\; font-size: 14px\; background-color: rgb(255\, 255\, 255)\;" />\n<span style="color: rgb(29\, 33\, 41)\; font-family: Helvetica\, Arial\, sans-serif\; font-size: 14px\; background-color: rgb(255\, 255\, 255)\;">&quot\;Anything that CAN go wrong\, HAS gone wrong aboard the S.S. Amore\, a not-so-luxurious honeymoon cruise ship. Captain Giovanni Della Robbia is trying to calm the passengers\, with the assistance of the cruise director\, Gina. It&#39\;s talent night aboard the Amore and Gina recruits audience members to join in the competition. Just when it looks like the cruise won&#39\;t be a total disaster\, the Captain is murdered. Suspects include honeymooners\, the crew and Chef Fredo\, whose temperament is matched by the large knife he wields.&quot\;</span>
LOCATION:
UID:e.2912.1511
SEQUENCE:3
DTSTAMP:20260420T000713Z
URL:https://members.bardstownchamber.com/events/details/mystery-theater-1511
END:VEVENT

END:VCALENDAR
