BEGIN:VCALENDAR
VERSION:2.0
PRODID:-//ChamberMaster//Event Calendar 2.0//EN
METHOD:PUBLISH
X-PUBLISHED-TTL:P3D
REFRESH-INTERVAL:P3D
CALSCALE:GREGORIAN
BEGIN:VEVENT
DTSTART:20180331T210000Z
DTEND:20180331T230000Z
X-MICROSOFT-CDO-ALLDAYEVENT:FALSE
SUMMARY:My Old Kentucky Home Easter Egg Hunt 2018
DESCRIPTION:First Inaugural Easter Egg Hunt at My Old Kentucky Home! The event is free!
X-ALT-DESC;FMTTYPE=text/html:<span style="color: rgb(168\, 149\, 128)\; font-family: adobe-garamond-pro\; font-size: 18px\; background-color: rgb(255\, 255\, 255)\;">&nbsp\;First Inaugural Easter Egg Hunt at My Old Kentucky Home! The event is free!&nbsp\;</span>\n<ul class="eventitem-meta event-meta event-meta-date-time-container" id="yui_3_17_2_1_1522077624857_251" style="list-style-type: none\; margin: 0px 0px 17px\; padding: 0px\; color: rgb(168\, 149\, 128)\; font-family: adobe-garamond-pro\; font-size: 18px\; background-color: rgb(255\, 255\, 255)\;">\n	<li class="eventitem-meta-item eventitem-meta-date event-meta-item" style="margin: 0px\; padding: 0px\; font-size: 0.9em\; line-height: 1.6em\;">&nbsp\;</li>\n	<li class="eventitem-meta-item eventitem-meta-time event-meta-item" style="margin: 0px\; padding: 0px\; font-size: 0.9em\; line-height: 1.6em\;">&nbsp\;</li>\n</ul>\n
LOCATION:My Old Kentucky Home State Park 501 East Stephen Foster Avenue Bardstown\, KY\, 4000
UID:e.2912.1439
SEQUENCE:3
DTSTAMP:20260420T053917Z
URL:https://members.bardstownchamber.com/events/details/my-old-kentucky-home-easter-egg-hunt-2018-1439
END:VEVENT

END:VCALENDAR
