BEGIN:VCALENDAR
VERSION:2.0
PRODID:-//ChamberMaster//Event Calendar 2.0//EN
METHOD:PUBLISH
X-PUBLISHED-TTL:P3D
REFRESH-INTERVAL:P3D
CALSCALE:GREGORIAN
BEGIN:VEVENT
DTSTART:20181215T150000Z
DTEND:20181215T180000Z
X-MICROSOFT-CDO-ALLDAYEVENT:FALSE
SUMMARY:Muddy Boots Play Group
DESCRIPTION:Children enjoy free play in the forest and self directed exploring under trees and around the woodland cabin. Space is limited for this event\, register by calling\; registration and payment due by 4 pm the day prior to the start of the program. Children should bring lunch\, water bottle and be dressed for the weather. Snacks are provided. For ages 3-6.
X-ALT-DESC;FMTTYPE=text/html:Children enjoy free play in the forest and self directed exploring under trees and around the woodland cabin. Space is limited for this event\, register by calling\; registration and payment due by 4 pm the day prior to the start of the program. Children should bring lunch\, water bottle and be dressed for the weather. Snacks are provided. For ages 3-6.
LOCATION:Bernheim Forest\, Woodland Pavilion
UID:e.2912.1647
SEQUENCE:3
DTSTAMP:20260419T163325Z
URL:https://members.bardstownchamber.com/events/details/muddy-boots-play-group-1647
END:VEVENT

END:VCALENDAR
