BEGIN:VCALENDAR
VERSION:2.0
PRODID:-//ChamberMaster//Event Calendar 2.0//EN
METHOD:PUBLISH
X-PUBLISHED-TTL:P3D
REFRESH-INTERVAL:P3D
CALSCALE:GREGORIAN
BEGIN:VEVENT
DTSTART;VALUE=DATE:20190104
DTEND;VALUE=DATE:20190105
TRANSP:TRANSPARENT
X-MICROSOFT-CDO-ALLDAYEVENT:TRUE
SUMMARY:Moonlight madness
DESCRIPTION:Dont miss out on the Biggest  sale of the season!  Make it a day and night to shop Local. Have some dinner and drinks.
X-ALT-DESC;FMTTYPE=text/html:Dont miss out on the Biggest&nbsp\; sale of the season!&nbsp\; Make it a day and night to shop Local. Have some dinner and drinks.&nbsp\;
LOCATION:
UID:e.2912.1588
SEQUENCE:3
DTSTAMP:20260419T132439Z
URL:https://members.bardstownchamber.com/events/details/moonlight-madness-1588
END:VEVENT

END:VCALENDAR
