BEGIN:VCALENDAR
VERSION:2.0
PRODID:-//ChamberMaster//Event Calendar 2.0//EN
METHOD:PUBLISH
X-PUBLISHED-TTL:P3D
REFRESH-INTERVAL:P3D
CALSCALE:GREGORIAN
BEGIN:VEVENT
DTSTART:20180510T210000Z
DTEND:20180510T220000Z
X-MICROSOFT-CDO-ALLDAYEVENT:FALSE
SUMMARY:Monthly Hope Tour
DESCRIPTION:Hope Tours are held from 5-6 p.m. the second Thursday of each month at Flaget Memorial Hospital. Guests can tour the hospital and cancer center\, meet staff members and hear inspiring stories from cancer survivors and their families. Those interested in attending can RSVP to Andrea Shepherd at 502.350.5058 or AndreaShepherd@KentuckyOneHealth.org
X-ALT-DESC;FMTTYPE=text/html:<span style="font-family: Arial\, Verdana\, sans-serif\; font-size: 12px\; background-color: rgb(255\, 255\, 255)\;">Hope Tours are held from 5-6 p.m. the second Thursday of each month at Flaget Memorial Hospital. Guests can tour the hospital and cancer center\, meet staff members and hear inspiring stories from cancer survivors and their families. Those interested in attending can RSVP to Andrea Shepherd at 502.350.5058 or&nbsp\;</span><a href="mailto:AndreaShepherd@KentuckyOneHealth.org" style="color: rgb(0\, 51\, 153)\; text-decoration-line: none\; font-family: Arial\, Verdana\, sans-serif\; font-size: 12px\; background-color: rgb(255\, 255\, 255)\;">AndreaShepherd@KentuckyOneHealth.org</a>
LOCATION:
UID:e.2912.1459
SEQUENCE:3
DTSTAMP:20260420T023100Z
URL:https://members.bardstownchamber.com/events/details/monthly-hope-tour-1459
END:VEVENT

END:VCALENDAR
