BEGIN:VCALENDAR
VERSION:2.0
PRODID:-//ChamberMaster//Event Calendar 2.0//EN
METHOD:PUBLISH
X-PUBLISHED-TTL:P3D
REFRESH-INTERVAL:P3D
CALSCALE:GREGORIAN
BEGIN:VEVENT
DTSTART;VALUE=DATE:20180528
DTEND;VALUE=DATE:20180529
TRANSP:TRANSPARENT
X-MICROSOFT-CDO-ALLDAYEVENT:TRUE
SUMMARY:Memorial Day Sidewalk Sale at Maurices
DESCRIPTION:Come out\, enjoy the beautiful weather and check our newest markdowns!  There will be an additional 40-60% off all markdowns!  Use your VIP for an additional 10% off your entire purchase.
X-ALT-DESC;FMTTYPE=text/html:Come out\, enjoy the beautiful weather and check our newest markdowns!&nbsp\; There will be an additional 40-60% off all markdowns!&nbsp\; Use your VIP for an additional 10% off your entire purchase.&nbsp\;&nbsp\;
LOCATION:Maurices 106 W John Rowan Blvd. Bardstown\, KY 40004
UID:e.2912.1478
SEQUENCE:3
DTSTAMP:20260420T012315Z
URL:https://members.bardstownchamber.com/events/details/memorial-day-sidewalk-sale-at-maurices-1478
END:VEVENT

END:VCALENDAR
