BEGIN:VCALENDAR
VERSION:2.0
PRODID:-//ChamberMaster//Event Calendar 2.0//EN
METHOD:PUBLISH
X-PUBLISHED-TTL:P3D
REFRESH-INTERVAL:P3D
CALSCALE:GREGORIAN
BEGIN:VEVENT
DTSTART:20231013T180000Z
DTEND:20231013T190000Z
X-MICROSOFT-CDO-ALLDAYEVENT:FALSE
SUMMARY:Meet the Coroner & Staff Ribbon Cutting for the Coroner's Office
DESCRIPTION:Join Us for a Ribbon Cutting! \n\n\n\nMeet the Coroner & Staff\nRibbon Cutting for the Coroner's Office\n\n\n860 W. Stephen Foster Ave.\,\n\nBardstown\, KY 40004\n\n\n\nFriday October 13th\, 2023\n\n2:00pm - 3:00pm
X-ALT-DESC;FMTTYPE=text/html:<span style="color: rgb(51\, 51\, 51)\; background-color: rgb(255\, 255\, 255)\; font-family: arial\, sans-serif\; font-size: 26px\;">Join Us for a Ribbon Cutting!&nbsp\;</span><br style="color: rgb(51\, 51\, 51)\; background-color: rgb(255\, 255\, 255)\; font-family: arial\, sans-serif\; font-size: 26px\;" />\n<br style="color: rgb(51\, 51\, 51)\; background-color: rgb(255\, 255\, 255)\; font-family: arial\, sans-serif\; font-size: 26px\;" />\n<font color="#333333" face="arial\, sans-serif"><span style="font-size: 26px\; background-color: rgb(255\, 255\, 255)\;">Meet the Coroner &amp\; Staff</span></font>\n<div><font color="#333333" face="arial\, sans-serif"><span style="font-size: 26px\;">Ribbon Cutting for the Coroner&#39\;s Office</span></font>\n<div><br style="color: rgb(51\, 51\, 51)\; background-color: rgb(255\, 255\, 255)\; font-family: arial\, sans-serif\; font-size: 26px\;" />\n<span style="color: rgb(51\, 51\, 51)\; background-color: rgb(255\, 255\, 255)\; font-family: arial\, sans-serif\; font-size: 26px\;">860 W. Stephen Foster Ave.\,</span><br style="color: rgb(51\, 51\, 51)\; background-color: rgb(255\, 255\, 255)\; font-family: arial\, sans-serif\; font-size: 26px\;" />\n<span style="color: rgb(51\, 51\, 51)\; background-color: rgb(255\, 255\, 255)\; font-family: arial\, sans-serif\; font-size: 26px\;">Bardstown\, KY 40004</span><br style="color: rgb(51\, 51\, 51)\; background-color: rgb(255\, 255\, 255)\; font-family: arial\, sans-serif\; font-size: 26px\;" />\n<br style="color: rgb(51\, 51\, 51)\; background-color: rgb(255\, 255\, 255)\; font-family: arial\, sans-serif\; font-size: 26px\;" />\n<span style="color: rgb(51\, 51\, 51)\; background-color: rgb(255\, 255\, 255)\; font-family: arial\, sans-serif\; font-size: 26px\;">Friday October 13th\, 2023</span><br style="color: rgb(51\, 51\, 51)\; background-color: rgb(255\, 255\, 255)\; font-family: arial\, sans-serif\; font-size: 26px\;" />\n<span style="color: rgb(51\, 51\, 51)\; background-color: rgb(255\, 255\, 255)\; font-family: arial\, sans-serif\; font-size: 26px\;">2:00pm - 3:00pm</span></div>\n</div>\n
LOCATION:
UID:e.2912.3303
SEQUENCE:3
DTSTAMP:20260420T134624Z
URL:https://members.bardstownchamber.com/events/details/meet-the-coroner-staff-ribbon-cutting-for-the-coroner-s-office-3303
END:VEVENT

END:VCALENDAR
