BEGIN:VCALENDAR
VERSION:2.0
PRODID:-//ChamberMaster//Event Calendar 2.0//EN
METHOD:PUBLISH
X-PUBLISHED-TTL:P3D
REFRESH-INTERVAL:P3D
CALSCALE:GREGORIAN
BEGIN:VEVENT
DTSTART:20171025T200000Z
DTEND:20171025T220000Z
X-MICROSOFT-CDO-ALLDAYEVENT:FALSE
SUMMARY:Meet & Greet the Simply Put Authors
DESCRIPTION:Meet & Greet the Simply Put Newspaper Authors at the New coffee shop FRESH at 114 N 3rd St in downtown Bardstown...even Kaya the Diva Dog will be there perfect for selfies. There will be some samplings of what all the shop offers at various times and you will get a chance to meet Larry B. Bertram our poet\, Alan Kwong our human interest and observer\, Paul Ables our sports & music writer and our mascot Scarlett will be giving out candy...so don't miss out on the fun!
X-ALT-DESC;FMTTYPE=text/html:Meet &amp\; Greet the Simply Put Newspaper Authors at the New coffee shop FRESH at 114 N 3rd St in downtown Bardstown...even Kaya the Diva Dog will be there perfect for selfies. There will be some samplings of what all the shop offers at various times and you will get a chance to meet Larry B. Bertram our poet\, Alan Kwong our human interest and observer\, Paul Ables our sports &amp\; music writer and our mascot Scarlett will be giving out candy...so don&#39\;t miss out on the fun!
LOCATION:FRESH coffee shop 114 N. 3rd (in Mammy's old location)
UID:e.2912.1389
SEQUENCE:3
DTSTAMP:20260424T100110Z
URL:https://members.bardstownchamber.com/events/details/meet-greet-the-simply-put-authors-1389
END:VEVENT

END:VCALENDAR
