BEGIN:VCALENDAR
VERSION:2.0
PRODID:-//ChamberMaster//Event Calendar 2.0//EN
METHOD:PUBLISH
X-PUBLISHED-TTL:P3D
REFRESH-INTERVAL:P3D
CALSCALE:GREGORIAN
BEGIN:VEVENT
DTSTART;VALUE=DATE:20201015
DTEND;VALUE=DATE:20201208
TRANSP:TRANSPARENT
X-MICROSOFT-CDO-ALLDAYEVENT:TRUE
SUMMARY:Medicare Annual Enrollment Period
DESCRIPTION:Medicare Annual Enrollment Period runs Oct 15 - Dec 7. Jennifer Osborne at Thoroughbred Asset Management is a Licensed Health and Medicare Agent that can assist educating and enrolling Medicare beneficiaries\, at no cost to the beneficiary.
X-ALT-DESC;FMTTYPE=text/html:Medicare Annual Enrollment Period runs Oct 15 - Dec 7. Jennifer Osborne at Thoroughbred Asset Management is a Licensed Health and Medicare Agent that can assist educating and enrolling Medicare beneficiaries\, at no cost to the beneficiary.
LOCATION:
UID:e.2912.2881
SEQUENCE:3
DTSTAMP:20260422T082950Z
URL:https://members.bardstownchamber.com/events/details/medicare-annual-enrollment-period-2881
END:VEVENT

END:VCALENDAR
