BEGIN:VCALENDAR
VERSION:2.0
PRODID:-//ChamberMaster//Event Calendar 2.0//EN
METHOD:PUBLISH
X-PUBLISHED-TTL:P3D
REFRESH-INTERVAL:P3D
CALSCALE:GREGORIAN
BEGIN:VEVENT
DTSTART:20210519T210000Z
DTEND:20210519T220000Z
X-MICROSOFT-CDO-ALLDAYEVENT:FALSE
SUMMARY:May Connect Hosted by WBRT & WOKH
DESCRIPTION:May Connect Hosted by WBRT & WOKH\n\nJoin us for a tailgate party with lots of Fun\, Food\, Drinks & Networking
X-ALT-DESC;FMTTYPE=text/html:May Connect Hosted by WBRT &amp\; WOKH<br />\nJoin us for a tailgate party with lots of Fun\, Food\, Drinks &amp\; Networking&nbsp\;
LOCATION:198-158 E Flaget St\, Bardstown\, KY 40004
UID:e.2912.2968
SEQUENCE:3
DTSTAMP:20260425T025057Z
URL:https://members.bardstownchamber.com/events/details/may-connect-hosted-by-wbrt-wokh-05-19-2021-2968
END:VEVENT

END:VCALENDAR
