BEGIN:VCALENDAR
VERSION:2.0
PRODID:-//ChamberMaster//Event Calendar 2.0//EN
METHOD:PUBLISH
X-PUBLISHED-TTL:P3D
REFRESH-INTERVAL:P3D
CALSCALE:GREGORIAN
BEGIN:VEVENT
DTSTART:20181107T233000Z
DTEND:20181108T020000Z
X-MICROSOFT-CDO-ALLDAYEVENT:FALSE
SUMMARY:master distiller from MGP at the BLIND PIG BOURBON SPEAKEASY
DESCRIPTION:come join us for a night with MGP master distiller. Try bourbons such as George remus\, roseville union.
X-ALT-DESC;FMTTYPE=text/html:come join us for a night with MGP master distiller. Try bourbons such as George remus\, roseville union.&nbsp\;&nbsp\;
LOCATION:Blind Pig Bourbon Speakeasy
UID:e.2912.1628
SEQUENCE:3
DTSTAMP:20260419T163757Z
URL:https://members.bardstownchamber.com/events/details/master-distiller-from-mgp-at-the-blind-pig-bourbon-speakeasy-1628
END:VEVENT

END:VCALENDAR
